BEGIN:VCALENDAR
VERSION:2.0
PRODID:-//Soulanges Irish Society - ECPv6.15.20//NONSGML v1.0//EN
CALSCALE:GREGORIAN
METHOD:PUBLISH
X-ORIGINAL-URL:https://soulangesirishsociety.org/fr/
X-WR-CALDESC:Évènements pour Soulanges Irish Society
REFRESH-INTERVAL;VALUE=DURATION:PT1H
X-Robots-Tag:noindex
X-PUBLISHED-TTL:PT1H
BEGIN:VTIMEZONE
TZID:America/Toronto
BEGIN:DAYLIGHT
TZOFFSETFROM:-0500
TZOFFSETTO:-0400
TZNAME:EDT
DTSTART:20250309T070000
END:DAYLIGHT
BEGIN:STANDARD
TZOFFSETFROM:-0400
TZOFFSETTO:-0500
TZNAME:EST
DTSTART:20251102T060000
END:STANDARD
BEGIN:DAYLIGHT
TZOFFSETFROM:-0500
TZOFFSETTO:-0400
TZNAME:EDT
DTSTART:20260308T070000
END:DAYLIGHT
BEGIN:STANDARD
TZOFFSETFROM:-0400
TZOFFSETTO:-0500
TZNAME:EST
DTSTART:20261101T060000
END:STANDARD
BEGIN:DAYLIGHT
TZOFFSETFROM:-0500
TZOFFSETTO:-0400
TZNAME:EDT
DTSTART:20270314T070000
END:DAYLIGHT
BEGIN:STANDARD
TZOFFSETFROM:-0400
TZOFFSETTO:-0500
TZNAME:EST
DTSTART:20271107T060000
END:STANDARD
END:VTIMEZONE
BEGIN:VEVENT
DTSTART;VALUE=DATE:20260314
DTEND;VALUE=DATE:20260322
DTSTAMP:20260421T173420
CREATED:20260124T201444Z
LAST-MODIFIED:20260208T162208Z
UID:1355-1773446400-1774137599@soulangesirishsociety.org
SUMMARY:2026 Festival Celtique
DESCRIPTION:Mardi 17 mars – Fête de la Saint-Patrick\, Dukes and Devine’s\, Vaudreuil\, 19 h – Programmation à confirmer \nMercredi 18 mars – Musique et bière\, Cardinal Microbrewery\, Hudson\, 19 h – Avec Stew et Alice \nJeudi 19 mars – Ragoût irlandais et bonne humeur\, Embers Restaurant\, Hudson\, 18 h 30 – Musique par Tim Walsh Duet \nVendredi 20 mars – Musique celtique traditionnelle et restauration\, Kingfisher Pub\, Hudson\, 18 h 30 – Musique par Life of Riley \nSamedi 21 mars – Défilé de la Saint-Patrick\, Hudson\, 13 h
URL:https://soulangesirishsociety.org/fr/events/2026-celtic-festival/
LOCATION:Main Street in Hudson\, Hudson\, Quebec\, Canada
END:VEVENT
END:VCALENDAR