BEGIN:VCALENDAR
VERSION:2.0
PRODID:-//Soulanges Irish Society - ECPv6.15.20//NONSGML v1.0//EN
CALSCALE:GREGORIAN
METHOD:PUBLISH
X-ORIGINAL-URL:https://soulangesirishsociety.org
X-WR-CALDESC:Events for Soulanges Irish Society
REFRESH-INTERVAL;VALUE=DURATION:PT1H
X-Robots-Tag:noindex
X-PUBLISHED-TTL:PT1H
BEGIN:VTIMEZONE
TZID:America/Toronto
BEGIN:DAYLIGHT
TZOFFSETFROM:-0500
TZOFFSETTO:-0400
TZNAME:EDT
DTSTART:20240310T070000
END:DAYLIGHT
BEGIN:STANDARD
TZOFFSETFROM:-0400
TZOFFSETTO:-0500
TZNAME:EST
DTSTART:20241103T060000
END:STANDARD
BEGIN:DAYLIGHT
TZOFFSETFROM:-0500
TZOFFSETTO:-0400
TZNAME:EDT
DTSTART:20250309T070000
END:DAYLIGHT
BEGIN:STANDARD
TZOFFSETFROM:-0400
TZOFFSETTO:-0500
TZNAME:EST
DTSTART:20251102T060000
END:STANDARD
BEGIN:DAYLIGHT
TZOFFSETFROM:-0500
TZOFFSETTO:-0400
TZNAME:EDT
DTSTART:20260308T070000
END:DAYLIGHT
BEGIN:STANDARD
TZOFFSETFROM:-0400
TZOFFSETTO:-0500
TZNAME:EST
DTSTART:20261101T060000
END:STANDARD
END:VTIMEZONE
BEGIN:VEVENT
DTSTART;TZID=America/Toronto:20251129T170000
DTEND;TZID=America/Toronto:20251129T183000
DTSTAMP:20260421T192425
CREATED:20250922T174840Z
LAST-MODIFIED:20251014T170058Z
UID:1263-1764435600-1764441000@soulangesirishsociety.org
SUMMARY:Hudson Soulanges Irish Society Santa Claus Parade
DESCRIPTION:
URL:https://soulangesirishsociety.org/events/hudson-soulanges-irish-society-santa-claus-parade/
LOCATION:Main Street in Hudson\, Hudson\, Quebec\, Canada
CATEGORIES:SIS Events
ATTACH;FMTTYPE=image/webp:https://soulangesirishsociety.org/wp-content/uploads/2024/10/Santa.webp
END:VEVENT
END:VCALENDAR