BEGIN:VCALENDAR
VERSION:2.0
PRODID:-//Soulanges Irish Society - ECPv6.15.20//NONSGML v1.0//EN
CALSCALE:GREGORIAN
METHOD:PUBLISH
X-ORIGINAL-URL:https://soulangesirishsociety.org
X-WR-CALDESC:Events for Soulanges Irish Society
REFRESH-INTERVAL;VALUE=DURATION:PT1H
X-Robots-Tag:noindex
X-PUBLISHED-TTL:PT1H
BEGIN:VTIMEZONE
TZID:America/Toronto
BEGIN:DAYLIGHT
TZOFFSETFROM:-0500
TZOFFSETTO:-0400
TZNAME:EDT
DTSTART:20230312T070000
END:DAYLIGHT
BEGIN:STANDARD
TZOFFSETFROM:-0400
TZOFFSETTO:-0500
TZNAME:EST
DTSTART:20231105T060000
END:STANDARD
BEGIN:DAYLIGHT
TZOFFSETFROM:-0500
TZOFFSETTO:-0400
TZNAME:EDT
DTSTART:20240310T070000
END:DAYLIGHT
BEGIN:STANDARD
TZOFFSETFROM:-0400
TZOFFSETTO:-0500
TZNAME:EST
DTSTART:20241103T060000
END:STANDARD
BEGIN:DAYLIGHT
TZOFFSETFROM:-0500
TZOFFSETTO:-0400
TZNAME:EDT
DTSTART:20250309T070000
END:DAYLIGHT
BEGIN:STANDARD
TZOFFSETFROM:-0400
TZOFFSETTO:-0500
TZNAME:EST
DTSTART:20251102T060000
END:STANDARD
BEGIN:DAYLIGHT
TZOFFSETFROM:-0500
TZOFFSETTO:-0400
TZNAME:EDT
DTSTART:20260308T070000
END:DAYLIGHT
BEGIN:STANDARD
TZOFFSETFROM:-0400
TZOFFSETTO:-0500
TZNAME:EST
DTSTART:20261101T060000
END:STANDARD
END:VTIMEZONE
BEGIN:VEVENT
DTSTART;TZID=America/Toronto:20250314T080000
DTEND;TZID=America/Toronto:20250314T103000
DTSTAMP:20260421T164259
CREATED:20250221T154448Z
LAST-MODIFIED:20250221T154448Z
UID:1046-1741939200-1741948200@soulangesirishsociety.org
SUMMARY:SIS IRISH FESTIVAL GRAND MARSHAL BREAKFAST
DESCRIPTION:Come and join the SIS 2025 Irish Festival Grand Marshal Frank Cavallaro from Lite 106.7.  Frank will be live that morning from McKibbin’s in Vaudreuil.  A hardy breakfast to kick off your weekend while supporting a great cause.
URL:https://soulangesirishsociety.org/events/sis-irish-festival-grand-marshal-breakfast/
LOCATION:McKibbin’s Irish Pub Vaudreuil
END:VEVENT
BEGIN:VEVENT
DTSTART;TZID=America/Toronto:20250313T183000
DTEND;TZID=America/Toronto:20250313T220000
DTSTAMP:20260421T164259
CREATED:20250221T152543Z
LAST-MODIFIED:20250221T153250Z
UID:1031-1741890600-1741903200@soulangesirishsociety.org
SUMMARY:EMBERS Tradional Irish Festival Meal
DESCRIPTION:Come and join us for a traditional Irish Meal during our Irish Festival in Hudson.  Evening will prove to be full of laughter\, celebration and plenty of Irish cheer.  Please make reservations at Embers directly.
URL:https://soulangesirishsociety.org/events/embers-tradional-irish-festival-meal/
LOCATION:Embers Resto\, 484 Main Road\, Hudson\, Quebec\, J0P 1H0\, Canada
END:VEVENT
BEGIN:VEVENT
DTSTART;TZID=America/Toronto:20250308T180000
DTEND;TZID=America/Toronto:20250308T230000
DTSTAMP:20260421T164259
CREATED:20250111T193541Z
LAST-MODIFIED:20250218T202323Z
UID:926-1741456800-1741474800@soulangesirishsociety.org
SUMMARY:SIS GRAND MARSHAL ROAST AND TOAST 2025
DESCRIPTION:Come and share an incredible evening of story telling and comedy as we roast this years Grand Marshal\, Frank Cavallaro. \nMany of Frank’s closest will roast and toast him\, should prove to be a memorable evening.
URL:https://soulangesirishsociety.org/events/sis-grand-marshal-roast-and-toast-2025/
LOCATION:Whitlock Golf Club\, 128 Côte Saint-Charles\, Hudson\, Quebec\, J0P 1H0\, Canada
END:VEVENT
BEGIN:VEVENT
DTSTART;TZID=America/Toronto:20250307T200000
DTEND;TZID=America/Toronto:20250307T230000
DTSTAMP:20260421T164259
CREATED:20250221T153746Z
LAST-MODIFIED:20250221T153746Z
UID:1040-1741377600-1741388400@soulangesirishsociety.org
SUMMARY:Alibi Lounge Guest Bartender - Grand Marshal Frank Cavallaro
DESCRIPTION:Come and joing the 2025 SIS Irish Festival Grand Marshal Frank Cavallaro of Lites 106.7.  Frank will be whipping up your favorite beverages for a great cause.
URL:https://soulangesirishsociety.org/events/alibi-lounge-guest-bartender-grand-marshal-frank-cavallaro/
LOCATION:Alibi Lounge Hudson\, Main Road\, Hudson\, Quebec\, J0P 1H0\, Canada
END:VEVENT
BEGIN:VEVENT
DTSTART;TZID=America/Toronto:20250301T160000
DTEND;TZID=America/Toronto:20250301T190000
DTSTAMP:20260421T164259
CREATED:20250111T193025Z
LAST-MODIFIED:20250218T202137Z
UID:922-1740844800-1740855600@soulangesirishsociety.org
SUMMARY:SIS 2025 IRISH MINGLE
DESCRIPTION:Come and join us for our annual Irish Festival Mingle\, held at the home of the Soulanges Irish Society at McKibbin’s Pub in Vaudreuil.  Costello Irish Dancers will be in the house and Music entertainment by    .  4-7pm.  Prizes and entertainment provided\, no entry fee.
URL:https://soulangesirishsociety.org/events/sis-2025-irish-mingle/
LOCATION:McKibbin’s Irish Pub Vaudreuil
END:VEVENT
BEGIN:VEVENT
DTSTART;TZID=America/Toronto:20250222T140000
DTEND;TZID=America/Toronto:20250222T230000
DTSTAMP:20260421T164259
CREATED:20250111T192540Z
LAST-MODIFIED:20250111T192632Z
UID:917-1740232800-1740265200@soulangesirishsociety.org
SUMMARY:ST-LAZARE IRISH CULTURAL DAY
DESCRIPTION:ST-LAZARE IRISH CULTURAL DAY\, promoted by the town of St-Lazare will showcase a day of Irish culture. \nFeaturing: \nThe Poetic creativity of Poet Brunty.  A Celtic based poet\, published several Celtic Poetry volumes.  Should prove to be very insightful to Irish Celtic history while being terribly entertaining. \nSIS’s own Irish Cultural Ambassador\, Samara O’Gorman\, who will share insightful stories in English\, French and Gaelic\, relate stories to several novels housed in the St-Lazare libraire while enlightening us on history from the Vaudreuil- Soulanges region. \nThe incredible Costello Irish Dancers will entertain dinner goers with their championship Irish Dance while showcasing the Costello school and all recent National and International qualifying champions. \nAn authentic Irish Buffet will be served for dinner. \nPrepare to have your dancing shoes on\, Mariners Curse will entertain us will traditional Celtic classics all evening long. \nCall the town of St Lazare for tickets\, reserved for the first 100 citizens of St Lazare.
URL:https://soulangesirishsociety.org/events/st-lazare-irish-cultural-day/
LOCATION:St Lazare Community Center\, 1301 Rue du Bois\, St\, Quebec\, J7V 3E6\, Canada
END:VEVENT
BEGIN:VEVENT
DTSTART;TZID=America/Toronto:20250215T180000
DTEND;TZID=America/Toronto:20250215T220000
DTSTAMP:20260421T164259
CREATED:20250105T162012Z
LAST-MODIFIED:20250119T154752Z
UID:887-1739642400-1739656800@soulangesirishsociety.org
SUMMARY:2025 Irish Festival Royalty Gala
DESCRIPTION:Come and join our annual Royalty Gala where your 2025 Irishman of the Year will be anointed and the 2025 Queen and her court will be selected.  Proves to be a great evening of Irish Heritage and Culture with the Championship Irish Dancers of Costello Irish Dance School and music by Brian Gallagher.  Cost includes a Traditional Irish Buffet\, festivities all evening. \nProceeds go to the Vaudreuil-Soulanges Hospital Neo Natal Care Unit.
URL:https://soulangesirishsociety.org/events/2025-irish-festival-royalty-gala/
LOCATION:RESSCO Reception Hall\, 54 boul Cite des Jeunes\, Vaudreuil- Dorion\, Quebec\, J7V 9L5\, Canada
END:VEVENT
BEGIN:VEVENT
DTSTART;TZID=America/Toronto:20241214T170000
DTEND;TZID=America/Toronto:20241214T190000
DTSTAMP:20260421T164259
CREATED:20241019T133739Z
LAST-MODIFIED:20241019T133739Z
UID:829-1734195600-1734202800@soulangesirishsociety.org
SUMMARY:Soulanges Irish Society Hudson Christmas Parade
DESCRIPTION:
URL:https://soulangesirishsociety.org/events/soulanges-irish-society-hudson-christmas-parade/
LOCATION:Main Street in Hudson\, Hudson\, Quebec\, Canada
CATEGORIES:SIS Events
ATTACH;FMTTYPE=image/webp:https://soulangesirishsociety.org/wp-content/uploads/2024/10/Santa.webp
END:VEVENT
BEGIN:VEVENT
DTSTART;TZID=America/Toronto:20241019T180000
DTEND;TZID=America/Toronto:20241019T230000
DTSTAMP:20260421T164259
CREATED:20241019T130609Z
LAST-MODIFIED:20241019T132718Z
UID:818-1729360800-1729378800@soulangesirishsociety.org
SUMMARY:Support Your Local Food Bank Night of Music
DESCRIPTION:
URL:https://soulangesirishsociety.org/events/818/
LOCATION:Bigg’s Sports Bar\, 3100 Route Harwood\, Vaudreuil- Dorion\, Quebec\, J7V 8P2\, Canada
CATEGORIES:SIS Events
END:VEVENT
BEGIN:VEVENT
DTSTART;TZID=America/Toronto:20240713T100000
DTEND;TZID=America/Toronto:20240713T160000
DTSTAMP:20260421T164259
CREATED:20240630T142207Z
LAST-MODIFIED:20240708T223945Z
UID:703-1720864800-1720886400@soulangesirishsociety.org
SUMMARY:Radical Auto Car Wash
DESCRIPTION:BEAT THE HEAT WITH RADICAL AUTOS \nSUMMER CAR WASH ! \n25$ \nWhen: July 13th 2024 \nTime: 10am to 4pm \nLocation: 2903 rte Harwood\, St-Lazarre\, Qc What you get: Full exterior wash & tire shine \nIn partnership with the Soulanges Irish Society. \n5$ from every car-washed will go towards supporting the New Vaudreuil Hospital’s \nNeonatal Center. \nTHE SUN SHINES BRIGHT & SO SHOULD YOUR CAR!
URL:https://soulangesirishsociety.org/events/radical-auto-car-wash/
LOCATION:Quebec
CATEGORIES:SIS Events,Third Party Event to Benefit SIS
END:VEVENT
BEGIN:VEVENT
DTSTART;TZID=America/Toronto:20240624T140000
DTEND;TZID=America/Toronto:20240624T160000
DTSTAMP:20260421T164259
CREATED:20240421T215020Z
LAST-MODIFIED:20250515T134513Z
UID:316-1719237600-1719244800@soulangesirishsociety.org
SUMMARY:St. Jean Baptiste Parade - Rigaud
DESCRIPTION:St Jean Baptiste Parade in Rigaud\, June 24th 1pm. Costello Dancers and Black Watch Pipes and Drums will be with us
URL:https://soulangesirishsociety.org/events/st-jean-baptiste-parade-rigaud/
LOCATION:Quebec
CATEGORIES:SIS Events
ATTACH;FMTTYPE=image/png:https://soulangesirishsociety.org/wp-content/uploads/2024/04/24-juin-14h.png
END:VEVENT
END:VCALENDAR