BEGIN:VCALENDAR
VERSION:2.0
PRODID:-//Soulanges Irish Society - ECPv6.15.20//NONSGML v1.0//EN
CALSCALE:GREGORIAN
METHOD:PUBLISH
X-WR-CALNAME:Soulanges Irish Society
X-ORIGINAL-URL:https://soulangesirishsociety.org
X-WR-CALDESC:Events for Soulanges Irish Society
REFRESH-INTERVAL;VALUE=DURATION:PT1H
X-Robots-Tag:noindex
X-PUBLISHED-TTL:PT1H
BEGIN:VTIMEZONE
TZID:America/Toronto
BEGIN:DAYLIGHT
TZOFFSETFROM:-0500
TZOFFSETTO:-0400
TZNAME:EDT
DTSTART:20250309T070000
END:DAYLIGHT
BEGIN:STANDARD
TZOFFSETFROM:-0400
TZOFFSETTO:-0500
TZNAME:EST
DTSTART:20251102T060000
END:STANDARD
BEGIN:DAYLIGHT
TZOFFSETFROM:-0500
TZOFFSETTO:-0400
TZNAME:EDT
DTSTART:20260308T070000
END:DAYLIGHT
BEGIN:STANDARD
TZOFFSETFROM:-0400
TZOFFSETTO:-0500
TZNAME:EST
DTSTART:20261101T060000
END:STANDARD
BEGIN:DAYLIGHT
TZOFFSETFROM:-0500
TZOFFSETTO:-0400
TZNAME:EDT
DTSTART:20270314T070000
END:DAYLIGHT
BEGIN:STANDARD
TZOFFSETFROM:-0400
TZOFFSETTO:-0500
TZNAME:EST
DTSTART:20271107T060000
END:STANDARD
END:VTIMEZONE
BEGIN:VEVENT
DTSTART;TZID=America/Toronto:20260131T180000
DTEND;TZID=America/Toronto:20260131T213000
DTSTAMP:20260421T192641
CREATED:20260103T154346Z
LAST-MODIFIED:20260105T180600Z
UID:1292-1769882400-1769895000@soulangesirishsociety.org
SUMMARY:2026 ROYAL GALA
DESCRIPTION:  \nTickets
URL:https://soulangesirishsociety.org/events/2026-royal-gala/
LOCATION:Hudson Community Center\, 394 Main Street\, Hudson\, Quebec\, J0P 1H0\, Canada
CATEGORIES:SIS Events
ATTACH;FMTTYPE=image/jpeg:https://soulangesirishsociety.org/wp-content/uploads/2026/01/Royalty-Gala-2026-v2.jpg
END:VEVENT
BEGIN:VEVENT
DTSTART;TZID=America/Toronto:20260228T163000
DTEND;TZID=America/Toronto:20260228T213000
DTSTAMP:20260421T192641
CREATED:20260103T155300Z
LAST-MODIFIED:20260228T182106Z
UID:1299-1772296200-1772314200@soulangesirishsociety.org
SUMMARY:2026 GRAND MARSHAL ROAST AND TOAST  SOLD OUT
DESCRIPTION:Tickets\n \nAn evening of gut splitting laughter and fun had by all. Full Whitlock Pasta buffet\, prizes\, auctions\, should prove to be an incredible intimate evening Quebec’s own Derek Seguin. \nSpecial Appearances by:Evening Emcee: David Acer Comedian and MagicianChantal Desjardins CHOM FM and ComedianRyan Wilner ComedianDavid Pride ComedianSteve Traynor and Ken Doran Guys about townLive Auction with Derek Memorabilia amongst other surprises.Full Pasta Buffet dinner\, cocktails at 430pm. Music by Brian Gallagher.
URL:https://soulangesirishsociety.org/events/2026-grand-marshal-roast-and-toast/
LOCATION:Whitlock Golf Club\, 128 Côte Saint-Charles\, Hudson\, Quebec\, J0P 1H0\, Canada
CATEGORIES:SIS Events,St. Patrick Festival Events
ATTACH;FMTTYPE=image/png:https://soulangesirishsociety.org/wp-content/uploads/2024/03/cropped-SOULANGES-IRISH-SOCIETY-2.png
END:VEVENT
BEGIN:VEVENT
DTSTART;TZID=America/Toronto:20260307T160000
DTEND;TZID=America/Toronto:20260307T220000
DTSTAMP:20260421T192641
CREATED:20260103T160658Z
LAST-MODIFIED:20260103T160925Z
UID:1307-1772899200-1772920800@soulangesirishsociety.org
SUMMARY:2026 Celtic Mingle
DESCRIPTION:
URL:https://soulangesirishsociety.org/events/2026-celtic-mingle/
LOCATION:Duke and Devine’s Vaudreuil\, 429 Ave St Charles\, Vaudreuil- Dorion\, Quebec\, J7V 2N2\, Canada
END:VEVENT
BEGIN:VEVENT
DTSTART;VALUE=DATE:20260314
DTEND;VALUE=DATE:20260322
DTSTAMP:20260421T192641
CREATED:20260124T201444Z
LAST-MODIFIED:20260208T161626Z
UID:1360-1773446400-1774137599@soulangesirishsociety.org
SUMMARY:2026 Celtic Festival
DESCRIPTION:Tuesday\, March 17 – St. Patrick’s Day Celebration\, Dukes and Devine’s\, Vaudreuil\, 7 p.m. – Lineup to be confirmed \nWednesday\, March 18 – Music and Beer\, Cardinal Microbrewery\, Hudson\, 7 p.m. – With Stew and Alice \nThursday\, March 19 – Irish Stew and Good Cheer\, Embers Restaurant\, Hudson\, 6:30 p.m. – Featuring Tim Walsh Duet \nFriday\, March 20 – Traditional Celtic Music and Food\, Kingfisher Pub\, Hudson\, 6:30 p.m. – Featuring Life of Riley \nSaturday\, March 21 – St. Patrick’s Day Parade\, Hudson\, 1 p.m.
URL:https://soulangesirishsociety.org/events/2026-celtic-festival/
LOCATION:Main Street in Hudson\, Hudson\, Quebec\, Canada
END:VEVENT
BEGIN:VEVENT
DTSTART;TZID=America/Toronto:20260320T080000
DTEND;TZID=America/Toronto:20260320T100000
DTSTAMP:20260421T192641
CREATED:20260214T141559Z
LAST-MODIFIED:20260214T141719Z
UID:1380-1773993600-1774000800@soulangesirishsociety.org
SUMMARY:SIS Grand Marshal Derek Seguin Breakfast at Duke and Devine's Vaudreuil
DESCRIPTION:
URL:https://soulangesirishsociety.org/events/sis-grand-marshal-derek-seguin-breakfast-at-dune-and-devines-vaudreuil/
LOCATION:Duke and Devine’s Vaudreuil\, 429 Ave St Charles\, Vaudreuil- Dorion\, Quebec\, J7V 2N2\, Canada
CATEGORIES:SIS Events,St. Patrick Festival Events
END:VEVENT
BEGIN:VEVENT
DTSTART;TZID=America/Toronto:20260321T130000
DTEND;TZID=America/Toronto:20260321T150000
DTSTAMP:20260421T192641
CREATED:20260103T162015Z
LAST-MODIFIED:20260103T162015Z
UID:1311-1774098000-1774105200@soulangesirishsociety.org
SUMMARY:2026 Soulanges Irish Society St Patrick's Parade in Hudson
DESCRIPTION:
URL:https://soulangesirishsociety.org/events/2026-soulanges-irish-society-st-patricks-parade-in-hudson/
LOCATION:Main Street in Hudson\, Hudson\, Quebec\, Canada
END:VEVENT
END:VCALENDAR