BEGIN:VCALENDAR
VERSION:2.0
PRODID:-//Soulanges Irish Society - ECPv6.15.20//NONSGML v1.0//EN
CALSCALE:GREGORIAN
METHOD:PUBLISH
X-ORIGINAL-URL:https://soulangesirishsociety.org
X-WR-CALDESC:Events for Soulanges Irish Society
REFRESH-INTERVAL;VALUE=DURATION:PT1H
X-Robots-Tag:noindex
X-PUBLISHED-TTL:PT1H
BEGIN:VTIMEZONE
TZID:America/Toronto
BEGIN:DAYLIGHT
TZOFFSETFROM:-0500
TZOFFSETTO:-0400
TZNAME:EDT
DTSTART:20240310T070000
END:DAYLIGHT
BEGIN:STANDARD
TZOFFSETFROM:-0400
TZOFFSETTO:-0500
TZNAME:EST
DTSTART:20241103T060000
END:STANDARD
BEGIN:DAYLIGHT
TZOFFSETFROM:-0500
TZOFFSETTO:-0400
TZNAME:EDT
DTSTART:20250309T070000
END:DAYLIGHT
BEGIN:STANDARD
TZOFFSETFROM:-0400
TZOFFSETTO:-0500
TZNAME:EST
DTSTART:20251102T060000
END:STANDARD
BEGIN:DAYLIGHT
TZOFFSETFROM:-0500
TZOFFSETTO:-0400
TZNAME:EDT
DTSTART:20260308T070000
END:DAYLIGHT
BEGIN:STANDARD
TZOFFSETFROM:-0400
TZOFFSETTO:-0500
TZNAME:EST
DTSTART:20261101T060000
END:STANDARD
END:VTIMEZONE
BEGIN:VEVENT
DTSTART;TZID=America/Toronto:20250906T130000
DTEND;TZID=America/Toronto:20250906T150000
DTSTAMP:20260422T021244
CREATED:20250515T142939Z
LAST-MODIFIED:20250526T140741Z
UID:1209-1757163600-1757170800@soulangesirishsociety.org
SUMMARY:Town of St Lazare 150th Anniversary Parade
DESCRIPTION:
URL:https://soulangesirishsociety.org/events/town-of-st-lazare-150th-anniversary-parade/
LOCATION:Town of St Lazare\, Boul Cite des Jeunes
CATEGORIES:SIS Events
ATTACH;FMTTYPE=image/png:https://soulangesirishsociety.org/wp-content/uploads/2025/04/150e_Logo-couleur-avec-fond-transparent.png
END:VEVENT
BEGIN:VEVENT
DTSTART;TZID=America/Toronto:20250908T100000
DTEND;TZID=America/Toronto:20250908T220000
DTSTAMP:20260422T021244
CREATED:20240325T220627Z
LAST-MODIFIED:20250824T123931Z
UID:190-1757325600-1757368800@soulangesirishsociety.org
SUMMARY:Annual SIS and Emerald Society Charity Golf Classic
DESCRIPTION:SOLD OUT 200 GOLFERS \n\n\n\nYour Soulanges Irish Society in partnership with the Montreal Firefighter Emerald Society are proud to host our 4th annual Charity Golf Tournament at the beautiful Whitlock Golf club in Hudson. \n\n$225 a golfer\,\n$900 for a foursome.\n\nPrice includes lunch\, golf/cart\, dinner and prizes. In fine SIS form\, guest speakers\, auction items and laughs to be had. \n\n\n\n\n\n\n\n 
URL:https://soulangesirishsociety.org/events/annual-sis-and-emerald-society-charity-golf-classic/
LOCATION:Whitlock Golf Club\, 128 Côte Saint-Charles\, Hudson\, Quebec\, J0P 1H0\, Canada
CATEGORIES:Golf Tournament,SIS Events
ATTACH;FMTTYPE=image/jpeg:https://soulangesirishsociety.org/wp-content/uploads/2024/03/Charity.jpg
END:VEVENT
END:VCALENDAR